{"text_format":"1","workbook":"xlsx","n_sheets":2,"sheets":["Lancement","DEBIT"],"not_rendered":{"charts":0,"images":5,"macros":1,"external_links":1,"defined_names":17,"comments":0,"pivot_tables":0},"unopened":[],"bounds":{"document_bytes":16777216,"sheet_cells":100000,"rows_first":2000,"rows_last":500,"rows_between":2000,"halvings":0,"cell_chars":16384,"cell_head_chars":4096},"cells_cut":0,"cells_raw":0,"read":"whole","date_system":"1900"}

{"sheet":"Lancement","index":0,"n_rows":5,"n_cols":21,"rows_kept":5,"cut":false,"hidden":false,"merged":[]}
["Code",null,"Désignation","Information 1","Information 2","Information 3","Longueur","Largeur ","Epaisseur",null,null,"Matériau",null,null,null,null,null,null,null,null,"Image fiche débit"]
["TEST01",null,"PLATEAU1","INFO1","INFO2","INFO3",500,300,19,null,null,"PPMS",null,null,null,null,null,null,null,null,"1A.jpg"]
["TEST02",null,"PLATEAU2","INFO1","INFO2","INFO3",800,444,19,null,null,"PPMS",null,null,null,null,null,null,null,null,"1B.jpg"]
["TEST03",null,"PLATEAU3","INFO1","INFO2","INFO3",700,111,19,null,null,"PPMS",null,null,null,null,null,null,null,null,"1C.jpg"]
["TEST04",null,"PLATEAU4","INFO1","INFO2","INFO3",600,222,19,null,null,"PPMS",null,null,null,null,null,null,null,null,"1D.jpg"]

{"sheet":"DEBIT","index":1,"n_rows":55,"n_cols":15,"rows_kept":55,"cut":false,"hidden":false,"merged":[[20,8,24,12],[21,0,21,1],[20,0,20,1],[20,2,21,2],[20,3,21,3],[20,4,21,4],[20,5,21,5],[3,2,4,3],[3,4,3,8],[3,9,3,10],[3,11,3,12],[10,8,14,12],[11,0,11,1],[10,0,10,1],[10,2,11,2],[10,3,11,3],[10,4,11,4],[4,4,4,7],[4,8,4,12],[6,5,6,12],[8,0,8,1],[8,8,8,12],[1,0,4,1],[1,4,1,8],[15,8,19,12],[16,0,16,1],[15,0,15,1],[15,2,16,2],[15,3,16,3],[15,4,16,4],[15,5,16,5],[15,6,16,6],[10,5,11,5],[10,6,11,6],[12,0,12,6],[1,11,1,12],[2,4,2,8],[2,10,2,12],[25,8,29,12],[26,0,26,1],[25,0,25,1],[25,2,26,2],[25,3,26,3],[25,4,26,4],[25,5,26,5],[25,6,26,6],[30,8,34,12],[31,0,31,1],[30,0,30,1],[30,2,31,2],[30,3,31,3],[30,4,31,4],[30,5,31,5],[30,6,31,6],[33,0,33,7],[34,0,34,6],[35,8,39,12],[36,0,36,1],[35,0,35,1],[35,2,36,2],[35,3,36,3],[35,4,36,4],[35,5,36,5],[35,6,36,6],[37,0,37,6],[54,0,54,6],[50,8,54,12],[51,0,51,1],[50,0,50,1],[50,2,51,2],[50,3,51,3],[50,4,51,4],[44,0,44,6],[40,8,44,12],[41,0,41,1],[40,0,40,1],[40,2,41,2],[40,3,41,3],[40,4,41,4],[40,5,41,5],[40,6,41,6],[45,8,49,12],[46,0,46,1],[45,0,45,1],[45,2,46,2],[45,3,46,3],[45,4,46,4],[45,5,46,5],[45,6,46,6],[24,0,24,6],[14,0,14,6],[52,0,52,6],[53,0,53,7],[13,0,13,7],[17,0,17,6],[18,0,18,7],[22,0,22,6],[23,0,23,7],[27,0,27,6],[28,0,28,7],[32,0,32,6],[50,5,51,5],[50,6,51,6],[38,0,38,7],[42,0,42,6],[43,0,43,7],[47,0,47,6],[48,0,48,7],[49,0,49,6],[39,0,39,6],[29,0,29,6],[20,6,21,6],[19,0,19,6]]}
[]
[null,null,"Client :"]
[null,null,"Destinataire :"]
[null,null,null,null,null,null,null,null,null,"n° Commande:"]
[]
[]
["Réf. :",null,"Qté. :",1,"Produit : "]
[]
["REF. PIECE",null,"Qté.","Qté. Total","Longueur","Largeur","Ep.","REF. PAN\ncouleur","OBSERVATION"]
[]
["TEST01",null,1,{"$f":"$D$7*C11","v":1},{"$f":"IF($A11<>\"\",VLOOKUP($A11,Lancement!$A$2:$U$5,7),\"\")","v":500},{"$f":"IF($A11<>\"\",VLOOKUP($A11,Lancement!$A$2:$U$5,8),\"\")","v":300},{"$f":"IF($A11<>\"\",VLOOKUP($A11,Lancement!$A$2:$U$5,9),\"\")","v":19}]
[{"$f":"IF($A11<>\"\",VLOOKUP($A11,Lancement!$A$2:$U$5,3),\"\")","v":"PLATEAU1"},null,null,null,null,null,null,{"$f":"IF($A11<>\"\",VLOOKUP($A11,Lancement!$A$2:$U$5,12),\"\")","v":"PPMS"}]
[{"$f":"IF($A11<>\"\",VLOOKUP($A11,Lancement!$A$2:$U$5,4),\"\")","v":"INFO1"}]
[{"$f":"IF($A11<>\"\",VLOOKUP($A11,Lancement!$A$2:$U$5,5),\"\")","v":"INFO2"}]
[{"$f":"IF($A11<>\"\",VLOOKUP($A11,Lancement!$A$2:$U$5,6),\"\")","v":"INFO3"},null,null,null,null,null,null,null,null,null,null,null,null,null,{"$f":"IF($A11<>\"\",VLOOKUP($A11,Lancement!$A$2:$U$5,21),\"\")","v":"1A.jpg"}]
["TEST02",null,1,{"$f":"$D$7*C16","v":1},{"$f":"IF($A16<>\"\",VLOOKUP($A16,Lancement!$A$2:$U$5,7),\"\")","v":800},{"$f":"IF($A16<>\"\",VLOOKUP($A16,Lancement!$A$2:$U$5,8),\"\")","v":444},{"$f":"IF($A16<>\"\",VLOOKUP($A16,Lancement!$A$2:$U$5,9),\"\")","v":19}]
[{"$f":"IF($A16<>\"\",VLOOKUP($A16,Lancement!$A$2:$U$5,3),\"\")","v":"PLATEAU2"},null,null,null,null,null,null,{"$f":"IF($A16<>\"\",VLOOKUP($A16,Lancement!$A$2:$U$5,12),\"\")","v":"PPMS"}]
[{"$f":"IF($A16<>\"\",VLOOKUP($A16,Lancement!$A$2:$U$5,4),\"\")","v":"INFO1"}]
[{"$f":"IF($A16<>\"\",VLOOKUP($A16,Lancement!$A$2:$U$5,5),\"\")","v":"INFO2"}]
[{"$f":"IF($A16<>\"\",VLOOKUP($A16,Lancement!$A$2:$U$5,6),\"\")","v":"INFO3"},null,null,null,null,null,null,null,null,null,null,null,null,null,{"$f":"IF($A16<>\"\",VLOOKUP($A16,Lancement!$A$2:$U$5,21),\"\")","v":"1B.jpg"}]
["TEST03",null,1,{"$f":"$D$7*C21","v":1},{"$f":"IF($A21<>\"\",VLOOKUP($A21,Lancement!$A$2:$U$5,7),\"\")","v":700},{"$f":"IF($A21<>\"\",VLOOKUP($A21,Lancement!$A$2:$U$5,8),\"\")","v":111},{"$f":"IF($A21<>\"\",VLOOKUP($A21,Lancement!$A$2:$U$5,9),\"\")","v":19}]
[{"$f":"IF($A21<>\"\",VLOOKUP($A21,Lancement!$A$2:$U$5,3),\"\")","v":"PLATEAU3"},null,null,null,null,null,null,{"$f":"IF($A21<>\"\",VLOOKUP($A21,Lancement!$A$2:$U$5,12),\"\")","v":"PPMS"}]
[{"$f":"IF($A21<>\"\",VLOOKUP($A21,Lancement!$A$2:$U$5,4),\"\")","v":"INFO1"}]
[{"$f":"IF($A21<>\"\",VLOOKUP($A21,Lancement!$A$2:$U$5,5),\"\")","v":"INFO2"}]
[{"$f":"IF($A21<>\"\",VLOOKUP($A21,Lancement!$A$2:$U$5,6),\"\")","v":"INFO3"},null,null,null,null,null,null,null,null,null,null,null,null,null,{"$f":"IF($A21<>\"\",VLOOKUP($A21,Lancement!$A$2:$U$5,21),\"\")","v":"1C.jpg"}]
["TEST04",null,1,{"$f":"$D$7*C26","v":1},{"$f":"IF($A26<>\"\",VLOOKUP($A26,Lancement!$A$2:$U$5,7),\"\")","v":600},{"$f":"IF($A26<>\"\",VLOOKUP($A26,Lancement!$A$2:$U$5,8),\"\")","v":222},{"$f":"IF($A26<>\"\",VLOOKUP($A26,Lancement!$A$2:$U$5,9),\"\")","v":19}]
[{"$f":"IF($A26<>\"\",VLOOKUP($A26,Lancement!$A$2:$U$5,3),\"\")","v":"PLATEAU4"},null,null,null,null,null,null,{"$f":"IF($A26<>\"\",VLOOKUP($A26,Lancement!$A$2:$U$5,12),\"\")","v":"PPMS"}]
[{"$f":"IF($A26<>\"\",VLOOKUP($A26,Lancement!$A$2:$U$5,4),\"\")","v":"INFO1"}]
[{"$f":"IF($A26<>\"\",VLOOKUP($A26,Lancement!$A$2:$U$5,5),\"\")","v":"INFO2"}]
[{"$f":"IF($A26<>\"\",VLOOKUP($A26,Lancement!$A$2:$U$5,6),\"\")","v":"INFO3"},null,null,null,null,null,null,null,null,null,null,null,null,null,{"$f":"IF($A26<>\"\",VLOOKUP($A26,Lancement!$A$2:$U$5,21),\"\")","v":"1D.jpg"}]
[null,null,null,{"$f":"$D$7*C31","v":0},{"$f":"IF($A31<>\"\",VLOOKUP($A31,Lancement!$A$2:$U$5,7),\"\")","v":""},{"$f":"IF($A31<>\"\",VLOOKUP($A31,Lancement!$A$2:$U$5,8),\"\")","v":""},{"$f":"IF($A31<>\"\",VLOOKUP($A31,Lancement!$A$2:$U$5,9),\"\")","v":""}]
[{"$f":"IF($A31<>\"\",VLOOKUP($A31,Lancement!$A$2:$U$5,3),\"\")","v":""},null,null,null,null,null,null,{"$f":"IF($A31<>\"\",VLOOKUP($A31,Lancement!$A$2:$U$5,12),\"\")","v":""}]
[{"$f":"IF($A31<>\"\",VLOOKUP($A31,Lancement!$A$2:$U$5,21),\"\")","v":""}]
[{"$f":"IF($A31<>\"\",VLOOKUP($A31,Lancement!$A$2:$U$5,5),\"\")","v":""}]
[{"$f":"IF($A31<>\"\",VLOOKUP($A31,Lancement!$A$2:$U$5,6),\"\")","v":""},null,null,null,null,null,null,null,null,null,null,null,null,null,{"$f":"IF($A31<>\"\",VLOOKUP($A31,Lancement!$A$2:$U$5,21),\"\")","v":""}]
[null,null,null,{"$f":"$D$7*C36","v":0},{"$f":"IF($A36<>\"\",VLOOKUP($A36,Lancement!$A$2:$U$5,7),\"\")","v":""},{"$f":"IF($A36<>\"\",VLOOKUP($A36,Lancement!$A$2:$U$5,8),\"\")","v":""},{"$f":"IF($A36<>\"\",VLOOKUP($A36,Lancement!$A$2:$U$5,9),\"\")","v":""}]
[{"$f":"IF($A36<>\"\",VLOOKUP($A36,Lancement!$A$2:$U$5,3),\"\")","v":""},null,null,null,null,null,null,{"$f":"IF($A36<>\"\",VLOOKUP($A36,Lancement!$A$2:$U$5,12),\"\")","v":""}]
[{"$f":"IF($A36<>\"\",VLOOKUP($A36,Lancement!$A$2:$U$5,4),\"\")","v":""}]
[{"$f":"IF($A36<>\"\",VLOOKUP($A36,Lancement!$A$2:$U$5,5),\"\")","v":""}]
[{"$f":"IF($A36<>\"\",VLOOKUP($A36,Lancement!$A$2:$U$5,6),\"\")","v":""},null,null,null,null,null,null,null,null,null,null,null,null,null,{"$f":"IF($A36<>\"\",VLOOKUP($A36,Lancement!$A$2:$U$5,21),\"\")","v":""}]
[null,null,null,{"$f":"$D$7*C41","v":0},{"$f":"IF($A41<>\"\",VLOOKUP($A41,Lancement!$A$2:$U$5,7),\"\")","v":""},{"$f":"IF($A41<>\"\",VLOOKUP($A41,Lancement!$A$2:$U$5,8),\"\")","v":""},{"$f":"IF($A41<>\"\",VLOOKUP($A41,Lancement!$A$2:$U$5,9),\"\")","v":""}]
[{"$f":"IF($A41<>\"\",VLOOKUP($A41,Lancement!$A$2:$U$5,3),\"\")","v":""},null,null,null,null,null,null,{"$f":"IF($A41<>\"\",VLOOKUP($A41,Lancement!$A$2:$U$5,12),\"\")","v":""}]
[{"$f":"IF($A41<>\"\",VLOOKUP($A41,Lancement!$A$2:$U$5,4),\"\")","v":""}]
[{"$f":"IF($A41<>\"\",VLOOKUP($A41,Lancement!$A$2:$U$5,5),\"\")","v":""}]
[{"$f":"IF($A41<>\"\",VLOOKUP($A41,Lancement!$A$2:$U$5,6),\"\")","v":""},null,null,null,null,null,null,null,null,null,null,null,null,null,{"$f":"IF($A41<>\"\",VLOOKUP($A41,Lancement!$A$2:$U$5,21),\"\")","v":""}]
[null,null,null,{"$f":"$D$7*C46","v":0},{"$f":"IF($A46<>\"\",VLOOKUP($A46,Lancement!$A$2:$U$5,7),\"\")","v":""},{"$f":"IF($A46<>\"\",VLOOKUP($A46,Lancement!$A$2:$U$5,8),\"\")","v":""},{"$f":"IF($A46<>\"\",VLOOKUP($A46,Lancement!$A$2:$U$5,9),\"\")","v":""}]
[{"$f":"IF($A46<>\"\",VLOOKUP($A46,Lancement!$A$2:$U$5,3),\"\")","v":""},null,null,null,null,null,null,{"$f":"IF($A46<>\"\",VLOOKUP($A46,Lancement!$A$2:$U$5,12),\"\")","v":""}]
[{"$f":"IF($A46<>\"\",VLOOKUP($A46,Lancement!$A$2:$U$5,4),\"\")","v":""}]
[{"$f":"IF($A46<>\"\",VLOOKUP($A46,Lancement!$A$2:$U$5,5),\"\")","v":""}]
[{"$f":"IF($A46<>\"\",VLOOKUP($A46,Lancement!$A$2:$U$5,6),\"\")","v":""},null,null,null,null,null,null,null,null,null,null,null,null,null,{"$f":"IF($A46<>\"\",VLOOKUP($A46,Lancement!$A$2:$U$5,21),\"\")","v":""}]
[null,null,null,{"$f":"$D$7*C51","v":0},{"$f":"IF($A51<>\"\",VLOOKUP($A51,Lancement!$A$2:$U$5,7),\"\")","v":""},{"$f":"IF($A51<>\"\",VLOOKUP($A51,Lancement!$A$2:$U$5,8),\"\")","v":""},{"$f":"IF($A51<>\"\",VLOOKUP($A51,Lancement!$A$2:$U$5,9),\"\")","v":""}]
[{"$f":"IF($A51<>\"\",VLOOKUP($A51,Lancement!$A$2:$U$5,3),\"\")","v":""},null,null,null,null,null,null,{"$f":"IF($A51<>\"\",VLOOKUP($A51,Lancement!$A$2:$U$5,12),\"\")","v":""}]
[{"$f":"IF($A51<>\"\",VLOOKUP($A51,Lancement!$A$2:$U$5,4),\"\")","v":""}]
[{"$f":"IF($A51<>\"\",VLOOKUP($A51,Lancement!$A$2:$U$5,5),\"\")","v":""}]
[{"$f":"IF($A51<>\"\",VLOOKUP($A51,Lancement!$A$2:$U$5,6),\"\")","v":""},null,null,null,null,null,null,null,null,null,null,null,null,null,{"$f":"IF($A51<>\"\",VLOOKUP($A51,Lancement!$A$2:$U$5,21),\"\")","v":""}]